BEGIN:VCALENDAR
VERSION:2.0
PRODID:-//Squarespace Inc/Squarespace 6//v6//EN
BEGIN:VEVENT
UID:56c21f7b04426207ff8158a0@squarespace.com
DTSTAMP:20160215T185758Z
DTSTART:20160308T223000Z
DTEND:20160308T233000Z
SUMMARY:Champaign Unit
GEO:40.130829;-88.252935
LOCATION:VFW Post 5520\, 609 Edgebrook Drive\, Champaign\, IL\, USA
END:VEVENT
END:VCALENDAR
