BEGIN:VCALENDAR
VERSION:2.0
PRODID:-//Squarespace Inc/Squarespace 6//v6//EN
BEGIN:VEVENT
UID:56c21fc41bbee037e4b28819@squarespace.com
DTSTAMP:20160215T185911Z
DTSTART:20160308T230000Z
DTEND:20160309T000000Z
SUMMARY:Bloomington Unit
GEO:40.443059;-89.023341
LOCATION:IBEW Local 197\, 2407 Beich Road\, Bloomington\, IL\, 61705\, Unit
 ed States
END:VEVENT
END:VCALENDAR
