BEGIN:VCALENDAR
VERSION:2.0
PRODID:-//Squarespace Inc/Squarespace 6//v6//EN
BEGIN:VEVENT
UID:56d45b1ab09f952c6246071a@squarespace.com
DTSTAMP:20160229T145414Z
DTSTART:20160305T173000Z
DTEND:20160305T193000Z
SUMMARY:Peoria Unit Fish Fry
GEO:40.673257;-89.6496
LOCATION:Knights of Columbus\, 3523 W. Hill St.\, Peoria\, IL\, USA
END:VEVENT
END:VCALENDAR
