BEGIN:VCALENDAR
VERSION:2.0
PRODID:-//Squarespace Inc/Squarespace 6//v6//EN
BEGIN:VEVENT
UID:56c21e7cb654f99dc44a23c4@squarespace.com
DTSTAMP:20160215T185338Z
DTSTART:20160303T210000Z
DTEND:20160303T220000Z
SUMMARY:Wood River Unit
GEO:38.934723;-90.154596
LOCATION:IBEW Local 649\, 4051 Humbert Road\, Alton\, IL\, 62002\, United S
 tates
END:VEVENT
END:VCALENDAR
