BEGIN:VCALENDAR
VERSION:2.0
PRODID:-//Squarespace Inc/Squarespace 6//v6//EN
BEGIN:VEVENT
UID:56c21ec8c2ea510748cc2714@squarespace.com
DTSTAMP:20160215T185503Z
DTSTART:20160303T223000Z
DTEND:20160303T233000Z
SUMMARY:Springfield Unit
GEO:39.743431;-89.712268
LOCATION:IBEW Local 51\, 3171 Greenhead Drive\, Springfield\, IL\, 62711\, 
 United States
END:VEVENT
END:VCALENDAR
