BEGIN:VCALENDAR
VERSION:2.0
PRODID:-//Squarespace Inc/Squarespace 6//v6//EN
BEGIN:VEVENT
UID:56c222d1b654f99dc44a4c90@squarespace.com
DTSTAMP:20160301T174956Z
DTSTART:20160327T040000Z
DTEND:20160327T050000Z
SUMMARY:Easter Sunday
END:VEVENT
END:VCALENDAR
