BEGIN:VCALENDAR
VERSION:2.0
PRODID:-//Squarespace Inc/Squarespace 6//v6//EN
BEGIN:VEVENT
UID:56c222989f726660ff0b81a2@squarespace.com
DTSTAMP:20160215T191055Z
DTSTART:20160325T110000Z
DTEND:20160325T210000Z
SUMMARY:Office Closed - Good Friday
END:VEVENT
END:VCALENDAR
