BEGIN:VCALENDAR
VERSION:2.0
PRODID:-//Squarespace Inc/Squarespace 6//v6//EN
BEGIN:VEVENT
UID:56c2227627d4bdb7269a05d1@squarespace.com
DTSTAMP:20160301T180409Z
DTSTART:20160320T160000Z
DTEND:20160320T170000Z
SUMMARY:Spring Begins
END:VEVENT
END:VCALENDAR
