BEGIN:VCALENDAR
VERSION:2.0
PRODID:-//Squarespace Inc/Squarespace 6//v6//EN
BEGIN:VEVENT
UID:56c21dda8a65e2cef8709c10@squarespace.com
DTSTAMP:20160215T185059Z
DTSTART:20160302T220000Z
DTEND:20160302T230000Z
SUMMARY:Lincoln Unit
GEO:40.148377;-89.364818
LOCATION:KC Hall\, Lincoln\, IL\, USA
END:VEVENT
END:VCALENDAR
