BEGIN:VCALENDAR
VERSION:2.0
PRODID:-//Squarespace Inc/Squarespace 6//v6//EN
BEGIN:VEVENT
UID:56c21e2d60b5e967aa1a8aff@squarespace.com
DTSTAMP:20160215T185228Z
DTSTART:20160302T230000Z
DTEND:20160303T000000Z
SUMMARY:LaSalle Unit
GEO:41.327869;-89.143939
LOCATION:Eagles Lodge\, 830 Harrison St.\, Peru\, IL\, USA
END:VEVENT
END:VCALENDAR
