BEGIN:VCALENDAR
VERSION:2.0
PRODID:-//Squarespace Inc/Squarespace 6//v6//EN
BEGIN:VEVENT
UID:56c21d89e32140f2851835f5@squarespace.com
DTSTAMP:20160215T184941Z
DTSTART:20160302T210000Z
DTEND:20160302T220000Z
SUMMARY:Clinton Unit
GEO:40.150385;-88.943822
LOCATION:Elks Lodge #785\, 1520 E. South St.\, Clinton\, IL\, USA
END:VEVENT
END:VCALENDAR
