BEGIN:VCALENDAR
VERSION:2.0
PRODID:-//Squarespace Inc/Squarespace 6//v6//EN
BEGIN:VEVENT
UID:56c221d92fe131e2c917fe0c@squarespace.com
DTSTAMP:20160301T175201Z
DTSTART:20160317T040000Z
DTEND:20160317T050000Z
SUMMARY:St. Patrick's Day
END:VEVENT
END:VCALENDAR
