BEGIN:VCALENDAR
VERSION:2.0
PRODID:-//Squarespace Inc/Squarespace 6//v6//EN
BEGIN:VEVENT
UID:56c22153b09f95f2a777de02@squarespace.com
DTSTAMP:20160215T190651Z
DTSTART:20160313T060000Z
DTEND:20160313T070000Z
SUMMARY:Daylight Savings Begins
END:VEVENT
END:VCALENDAR
