BEGIN:VCALENDAR
VERSION:2.0
PRODID:-//Squarespace Inc/Squarespace 6//v6//EN
BEGIN:VEVENT
UID:56c220553c44d871db3fb04f@squarespace.com
DTSTAMP:20160215T190126Z
DTSTART:20160310T210000Z
DTEND:20160310T220000Z
SUMMARY:Decatur Unit
GEO:39.884232;-88.9355
LOCATION:IBEW Local 146\, 3390 N. Woodford St.\, Decatur\, IL\, USA
END:VEVENT
END:VCALENDAR
