BEGIN:VCALENDAR
VERSION:2.0
PRODID:-//Squarespace Inc/Squarespace 6//v6//EN
BEGIN:VEVENT
UID:56c220941bbee037e4b28feb@squarespace.com
DTSTAMP:20160215T190222Z
DTSTART:20160310T220000Z
DTEND:20160310T230000Z
SUMMARY:Decatur Unit 15
GEO:39.884232;-88.9355
LOCATION:IBEW Local 146\, 3390 Woodford St.\, Decatur\, IL\, USA
END:VEVENT
END:VCALENDAR
