BEGIN:VCALENDAR
VERSION:2.0
PRODID:-//Squarespace Inc/Squarespace 6//v6//EN
BEGIN:VEVENT
UID:56c21c15356fb03af9c930f9@squarespace.com
DTSTAMP:20160215T184825Z
DTSTART:20160301T210000Z
DTEND:20160301T220000Z
SUMMARY:Havana Unit
GEO:41.603289;-87.518429
LOCATION:VFW\, 425 W. Avenue\, Havana\, IL\, USA
END:VEVENT
END:VCALENDAR
