BEGIN:VCALENDAR
VERSION:2.0
PRODID:-//Squarespace Inc/Squarespace 6//v6//EN
BEGIN:VEVENT
UID:56c21c322eeb81a0a16b68ee@squarespace.com
DTSTAMP:20160215T184716Z
DTSTART:20160301T220000Z
DTEND:20160301T230000Z
SUMMARY:Galesburg Unit
GEO:40.935244;-90.336504
LOCATION:Galesburg Labor Temple\, 2243 Grand Avenue\, Galesburg\, IL\, USA
END:VEVENT
END:VCALENDAR
