BEGIN:VCALENDAR
VERSION:2.0
PRODID:-//Squarespace Inc/Squarespace 6//v6//EN
BEGIN:VEVENT
UID:56c21b76f850820268e13b13@squarespace.com
DTSTAMP:20160215T184020Z
DTSTART:20160220T140000Z
DTEND:20160220T150000Z
SUMMARY:Executive Board
END:VEVENT
END:VCALENDAR
