BEGIN:VCALENDAR
VERSION:2.0
PRODID:-//Squarespace Inc/Squarespace 6//v6//EN
BEGIN:VEVENT
UID:56c21b2ec6fc08ef54851536@squarespace.com
DTSTAMP:20160215T184112Z
DTSTART:20160215T190000Z
DTEND:20160215T200000Z
SUMMARY:President's Day
END:VEVENT
END:VCALENDAR
