BEGIN:VCALENDAR
VERSION:2.0
PRODID:-//Squarespace Inc/Squarespace 6//v6//EN
BEGIN:VEVENT
UID:56d9a2e52fe1315655924c09@squarespace.com
DTSTAMP:20160304T150033Z
DTSTART:20161208T223000Z
DTEND:20161208T233000Z
SUMMARY:Peoria Unit
GEO:40.739454;-89.570558
LOCATION:VFW 2602\, 1505 East Lake Avenue\, Peoria Heights\, IL\, 61616\, U
 nited States
END:VEVENT
END:VCALENDAR
