BEGIN:VCALENDAR
VERSION:2.0
PRODID:-//Squarespace Inc/Squarespace 6//v6//EN
BEGIN:VEVENT
UID:56d9a16fd210b82e9724485f@squarespace.com
DTSTAMP:20160304T145537Z
DTSTART:20161207T220000Z
DTEND:20161207T230000Z
SUMMARY:Lincoln Unit
GEO:40.148377;-89.364818
LOCATION:KC Hall\, Lincoln\, IL\, US
END:VEVENT
END:VCALENDAR
