BEGIN:VCALENDAR
VERSION:2.0
PRODID:-//Squarespace Inc/Squarespace 6//v6//EN
BEGIN:VEVENT
UID:56d9a070356fb0f88659ddb8@squarespace.com
DTSTAMP:20160304T145233Z
DTSTART:20161207T210000Z
DTEND:20161207T220000Z
SUMMARY:Clinton Unit
GEO:40.150385;-88.943822
LOCATION:Elks Lodge #785\, 1520 E. South St.\, Clinton IL\, USA
END:VEVENT
END:VCALENDAR
