BEGIN:VCALENDAR
VERSION:2.0
PRODID:-//Squarespace Inc/Squarespace 6//v6//EN
BEGIN:VEVENT
UID:56d99f59b6aa60744e429e39@squarespace.com
DTSTAMP:20160304T144642Z
DTSTART:20161206T210000Z
DTEND:20161206T220000Z
SUMMARY:Havana Unit
GEO:41.603289;-87.518429
LOCATION:VFW\, 425 W. Ave.\, Havana\, IL\, US
END:VEVENT
END:VCALENDAR
