BEGIN:VCALENDAR
VERSION:2.0
PRODID:-//Squarespace Inc/Squarespace 6//v6//EN
BEGIN:VEVENT
UID:56d99fe4e32140be19d67db4@squarespace.com
DTSTAMP:20160421T202600Z
DTSTART:20161206T220000Z
DTEND:20161206T230000Z
SUMMARY:Galesburg Unit
GEO:40.951079;-90.361045
LOCATION:American Legion\, 571 E. North St.\, Galesburg\, IL\, 61401\, Unit
 ed States
END:VEVENT
END:VCALENDAR
