BEGIN:VCALENDAR
VERSION:2.0
PRODID:-//Squarespace Inc/Squarespace 6//v6//EN
BEGIN:VEVENT
UID:56d9a83cb09f954960c3ae7c@squarespace.com
DTSTAMP:20160304T152524Z
DTSTART:20161230T120000Z
DTEND:20161230T220000Z
SUMMARY:Office Closed - New Year's Eve Observed
END:VEVENT
END:VCALENDAR
