BEGIN:VCALENDAR
VERSION:2.0
PRODID:-//Squarespace Inc/Squarespace 6//v6//EN
BEGIN:VEVENT
UID:56d9a7fec6fc08deaef1f465@squarespace.com
DTSTAMP:20160304T152219Z
DTSTART:20161230T050000Z
DTEND:20161230T060000Z
SUMMARY:New Year's Eve
END:VEVENT
END:VCALENDAR
