BEGIN:VCALENDAR
VERSION:2.0
PRODID:-//Squarespace Inc/Squarespace 6//v6//EN
BEGIN:VEVENT
UID:56d8b0d201dbae98b67b4cd6@squarespace.com
DTSTAMP:20160303T214749Z
DTSTART:20161226T120000Z
DTEND:20161226T220000Z
SUMMARY:Office Closed - Christmas Day Observed
END:VEVENT
END:VCALENDAR
