BEGIN:VCALENDAR
VERSION:2.0
PRODID:-//Squarespace Inc/Squarespace 6//v6//EN
BEGIN:VEVENT
UID:56d8b0a2b6aa606aaa2dcf18@squarespace.com
DTSTAMP:20160303T214645Z
DTSTART:20161225T120000Z
DTEND:20161225T130000Z
SUMMARY:CHRISTMAS DAY
END:VEVENT
END:VCALENDAR
