BEGIN:VCALENDAR
VERSION:2.0
PRODID:-//Squarespace Inc/Squarespace 6//v6//EN
BEGIN:VEVENT
UID:56d8b043b09f953afb239f85@squarespace.com
DTSTAMP:20160303T214555Z
DTSTART:20161225T000000Z
DTEND:20161225T010000Z
SUMMARY:CHRISTMAS EVE
END:VEVENT
END:VCALENDAR
