BEGIN:VCALENDAR
VERSION:2.0
PRODID:-//Squarespace Inc/Squarespace 6//v6//EN
BEGIN:VEVENT
UID:56d8b00362cd944335b3ebd2@squarespace.com
DTSTAMP:20160303T214422Z
DTSTART:20161223T120000Z
DTEND:20161223T220000Z
SUMMARY:Office Closed - Christmas Eve Observed
END:VEVENT
END:VCALENDAR
