BEGIN:VCALENDAR
VERSION:2.0
PRODID:-//Squarespace Inc/Squarespace 6//v6//EN
BEGIN:VEVENT
UID:56d9a669ab48de255c517953@squarespace.com
DTSTAMP:20160304T151534Z
DTSTART:20161220T050000Z
DTEND:20161220T060000Z
SUMMARY:Winter Begins
END:VEVENT
END:VCALENDAR
