BEGIN:VCALENDAR
VERSION:2.0
PRODID:-//Squarespace Inc/Squarespace 6//v6//EN
BEGIN:VEVENT
UID:56d8ae121bbee06f682e3283@squarespace.com
DTSTAMP:20160303T213616Z
DTSTART:20161216T140000Z
DTEND:20161216T213000Z
SUMMARY:Executive Board
END:VEVENT
END:VCALENDAR
