BEGIN:VCALENDAR
VERSION:2.0
PRODID:-//Squarespace Inc/Squarespace 6//v6//EN
BEGIN:VEVENT
UID:56d9a5aa07eaa07660acda76@squarespace.com
DTSTAMP:20160304T151219Z
DTSTART:20161214T210000Z
DTEND:20161214T220000Z
SUMMARY:Baldwin Unit
GEO:38.325745;-89.878519
LOCATION:The Bullpen\, 101 North Van Buren Street\, New Athens\, IL\, 62264
 \, United States
END:VEVENT
END:VCALENDAR
