BEGIN:VCALENDAR
VERSION:2.0
PRODID:-//Squarespace Inc/Squarespace 6//v6//EN
BEGIN:VEVENT
UID:56d99e34b654f9ac7f5509dd@squarespace.com
DTSTAMP:20160829T143500Z
DTSTART:20161201T220000Z
DTEND:20161201T230000Z
SUMMARY:Wood River Unit
GEO:38.673065;-90.014011
LOCATION:IBEW Local 309\, 2000A Mall Street\, Rt. 157\, Collinsville\, IL  
 62234\, United States
END:VEVENT
END:VCALENDAR
