BEGIN:VCALENDAR
VERSION:2.0
PRODID:-//Squarespace Inc/Squarespace 6//v6//EN
BEGIN:VEVENT
UID:56d89c9827d4bd052da2021f@squarespace.com
DTSTAMP:20160303T202157Z
DTSTART:20161108T120000Z
DTEND:20161109T000000Z
SUMMARY:Election Day
END:VEVENT
END:VCALENDAR
