BEGIN:VCALENDAR
VERSION:2.0
PRODID:-//Squarespace Inc/Squarespace 6//v6//EN
BEGIN:VEVENT
UID:56d89cf307eaa03233d66437@squarespace.com
DTSTAMP:20160303T202258Z
DTSTART:20161108T223000Z
DTEND:20161108T233000Z
SUMMARY:Champaign Unit
GEO:40.13117;-88.252501
LOCATION:VFW Post 5520\, 609 Edgebrook Drive\, Champaign\, IL\, 61820\, Uni
 ted States
END:VEVENT
END:VCALENDAR
