BEGIN:VCALENDAR
VERSION:2.0
PRODID:-//Squarespace Inc/Squarespace 6//v6//EN
BEGIN:VEVENT
UID:56d89d7a9f7266d2af2df123@squarespace.com
DTSTAMP:20160303T202621Z
DTSTART:20161106T080000Z
DTEND:20161106T080100Z
SUMMARY:Daylight Savings Time Ends
END:VEVENT
END:VCALENDAR
