BEGIN:VCALENDAR
VERSION:2.0
PRODID:-//Squarespace Inc/Squarespace 6//v6//EN
BEGIN:VEVENT
UID:56d8aa8362cd944335b3b121@squarespace.com
DTSTAMP:20160829T143346Z
DTSTART:20161103T210000Z
DTEND:20161103T220000Z
SUMMARY:Wood River Unit
GEO:38.921163;-90.172522
LOCATION:IBEW Local 309\, 2000A Mall Street\, Rt. 157\, Collinsville\, IL  
 62234\, United States
END:VEVENT
END:VCALENDAR
