BEGIN:VCALENDAR
VERSION:2.0
PRODID:-//Squarespace Inc/Squarespace 6//v6//EN
BEGIN:VEVENT
UID:56d8aac601dbae98b67b0f1d@squarespace.com
DTSTAMP:20160303T212248Z
DTSTART:20161103T213000Z
DTEND:20161103T223000Z
SUMMARY:Springfield Unit
GEO:39.743519;-89.714882
LOCATION:IBEW Local 51\, 3171 Green Head Drive\, Springfield\, IL\, 62711\, 
 United States
END:VEVENT
END:VCALENDAR
