BEGIN:VCALENDAR
VERSION:2.0
PRODID:-//Squarespace Inc/Squarespace 6//v6//EN
BEGIN:VEVENT
UID:56d89f1f356fb0b9bc341030@squarespace.com
DTSTAMP:20160303T203203Z
DTSTART:20161125T120000Z
DTEND:20161125T220000Z
SUMMARY:OFFICE CLOSED
END:VEVENT
END:VCALENDAR
