BEGIN:VCALENDAR
VERSION:2.0
PRODID:-//Squarespace Inc/Squarespace 6//v6//EN
BEGIN:VEVENT
UID:56d89eb237013ba0efb8cfc4@squarespace.com
DTSTAMP:20160303T203037Z
DTSTART:20161124T120000Z
DTEND:20161124T220000Z
SUMMARY:Office Closed - Thanksgiving Day
END:VEVENT
END:VCALENDAR
