BEGIN:VCALENDAR
VERSION:2.0
PRODID:-//Squarespace Inc/Squarespace 6//v6//EN
BEGIN:VEVENT
UID:56d8a9f737013bd893653676@squarespace.com
DTSTAMP:20160303T211822Z
DTSTART:20161102T210000Z
DTEND:20161102T220000Z
SUMMARY:Lincoln Unit
GEO:40.148377;-89.364818
LOCATION:KC Hall\, Lincoln\, IL
END:VEVENT
END:VCALENDAR
