BEGIN:VCALENDAR
VERSION:2.0
PRODID:-//Squarespace Inc/Squarespace 6//v6//EN
BEGIN:VEVENT
UID:56d8988a3c44d8b6974c1138@squarespace.com
DTSTAMP:20160303T200418Z
DTSTART:20161111T120000Z
DTEND:20161111T220000Z
SUMMARY:Office Closed - Veteran's Day Observance
END:VEVENT
END:VCALENDAR
