BEGIN:VCALENDAR
VERSION:2.0
PRODID:-//Squarespace Inc/Squarespace 6//v6//EN
BEGIN:VEVENT
UID:56d8ac6d60b5e9cb4538f02a@squarespace.com
DTSTAMP:20160303T212902Z
DTSTART:20161110T223000Z
DTEND:20161110T233000Z
SUMMARY:Peoria Unit
GEO:40.739454;-89.570558
LOCATION:VFW 2602\, 1505 East Lake Avenue\, Peoria Heights\, IL\, 61616\, U
 nited States
END:VEVENT
END:VCALENDAR
