BEGIN:VCALENDAR
VERSION:2.0
PRODID:-//Squarespace Inc/Squarespace 6//v6//EN
BEGIN:VEVENT
UID:56d8a84f04426221d4b6b749@squarespace.com
DTSTAMP:20160303T211137Z
DTSTART:20161101T200000Z
DTEND:20161101T210000Z
SUMMARY:Havana Unit
GEO:41.603289;-87.518429
LOCATION:VFW\, 425 W. Ave.\, Havana\, IL\, USA
END:VEVENT
END:VCALENDAR
