BEGIN:VCALENDAR
VERSION:2.0
PRODID:-//Squarespace Inc/Squarespace 6//v6//EN
BEGIN:VEVENT
UID:56d895212fe131758d06eeaa@squarespace.com
DTSTAMP:20160829T143203Z
DTSTART:20161006T210000Z
DTEND:20161006T220000Z
SUMMARY:Wood River Unit
GEO:38.921163;-90.172522
LOCATION:IBEW Local 309\, 2000A Mall Street\, Rt. 157\, Collinsville\, IL 6
 2234\, United States
END:VEVENT
END:VCALENDAR
