BEGIN:VCALENDAR
VERSION:2.0
PRODID:-//Squarespace Inc/Squarespace 6//v6//EN
BEGIN:VEVENT
UID:56d8954fd51cd40978b3779a@squarespace.com
DTSTAMP:20160303T195009Z
DTSTART:20161006T213000Z
DTEND:20161006T223000Z
SUMMARY:Springfield Unit
GEO:39.743519;-89.714882
LOCATION:IBEW Local 51\, 3171 Green Head Drive\, Springfield\, IL\, 62711\, 
 United States
END:VEVENT
END:VCALENDAR
