BEGIN:VCALENDAR
VERSION:2.0
PRODID:-//Squarespace Inc/Squarespace 6//v6//EN
BEGIN:VEVENT
UID:56d8937762cd94535bc1d3b2@squarespace.com
DTSTAMP:20160303T194224Z
DTSTART:20161005T210000Z
DTEND:20161005T220000Z
SUMMARY:Lincoln Unit
GEO:32.728328;-97.109346
LOCATION:KC Hall\, Lincoln\, IL
END:VEVENT
END:VCALENDAR
