BEGIN:VCALENDAR
VERSION:2.0
PRODID:-//Squarespace Inc/Squarespace 6//v6//EN
BEGIN:VEVENT
UID:56d892fb40261d246e7bb5f9@squarespace.com
DTSTAMP:20160303T194128Z
DTSTART:20161005T200000Z
DTEND:20161005T210000Z
SUMMARY:Clinton Unit
GEO:40.150385;-88.943822
LOCATION:Elks Lodge #785\, 1520 E. South St.\, Clinton IL\, USA
END:VEVENT
END:VCALENDAR
