BEGIN:VCALENDAR
VERSION:2.0
PRODID:-//Squarespace Inc/Squarespace 6//v6//EN
BEGIN:VEVENT
UID:56d75405cf80a15f84d412d7@squarespace.com
DTSTAMP:20160302T205953Z
DTSTART:20161004T200000Z
DTEND:20161004T210000Z
SUMMARY:Havana Unit
GEO:41.603289;-87.518429
LOCATION:VFW\, 425 W. Ave.\, Havana\, IL\, USA
END:VEVENT
END:VCALENDAR
